BEGIN:VCALENDAR
VERSION:2.0
PRODID:http://kirche-buchbach.de
BEGIN:VEVENT
UID:c91305df-36ba-11f1-a8bf-0242ac11002b-1778338800000-de
DTSTAMP:20260412T215849Z
DTSTART:20260509T150000Z
DTEND:20260509T160000Z
SUMMARY;LANGUAGE=de:Pfarrgottesdienst für alle Lebenden und + Pfarrangehörigen
END:VEVENT
END:VCALENDAR
