BEGIN:VCALENDAR
VERSION:2.0
PRODID:http://kirche-buchbach.de
BEGIN:VEVENT
UID:bd45ef49-36ba-11f1-a8bf-0242ac11002b-1777190400000-de
DTSTAMP:20260412T215829Z
DTSTART:20260426T080000Z
DTEND:20260426T090000Z
SUMMARY;LANGUAGE=de:Festgottesdienst mit Feier der Erst- und Jubelkommunion
DESCRIPTION;LANGUAGE=de:*für alle Lebenden und Verstorbenen unserer Pfarrgemeinden
END:VEVENT
END:VCALENDAR
