BEGIN:VCALENDAR
VERSION:2.0
PRODID:http://kirche-buchbach.de
BEGIN:VEVENT
UID:bad11e83-36ba-11f1-a8bf-0242ac11002b-1777987800000-de
DTSTAMP:20260412T215825Z
DTSTART:20260505T133000Z
DTEND:20260505T140000Z
SUMMARY;LANGUAGE=de:Ewige Anbetung; Eucharistische Andacht mit Aussetzung des Allerheiligsten
END:VEVENT
END:VCALENDAR
