BEGIN:VCALENDAR
VERSION:2.0
PRODID:http://kirche-buchbach.de
BEGIN:VEVENT
UID:b8f644ee-36ba-11f1-a8bf-0242ac11002b-1777739400000-de
DTSTAMP:20260412T215822Z
DTSTART:20260502T163000Z
DTEND:20260502T173000Z
SUMMARY;LANGUAGE=de:Pfarrgottesdienst für alle Lebenden und + Pfarrangehörigen
END:VEVENT
END:VCALENDAR
