BEGIN:VCALENDAR
VERSION:2.0
PRODID:http://kirche-buchbach.de
BEGIN:VEVENT
UID:8db65086-38a9-11f1-a8bf-0242ac11002b-1778684400000-de
DTSTAMP:20260415T090030Z
DTSTART:20260513T150000Z
DTEND:20260513T160000Z
SUMMARY;LANGUAGE=de:Hl. Messe zum Hochfest Christi Himmelfahrt mit Fahrzeugsegnung
END:VEVENT
END:VCALENDAR
