BEGIN:VCALENDAR
VERSION:2.0
PRODID:http://kirche-buchbach.de
BEGIN:VEVENT
UID:7e16ed7e-33f2-11f1-a8bf-0242ac11002b-1778171400000-de
DTSTAMP:20260409T090001Z
DTSTART:20260507T163000Z
DTEND:20260507T170000Z
SUMMARY;LANGUAGE=de:Eucharistische Anbetung, parallel Beichtgelegenheit
END:VEVENT
END:VCALENDAR
