BEGIN:VCALENDAR
VERSION:2.0
PRODID:http://kirche-buchbach.de
BEGIN:VEVENT
UID:5d49425c-37e0-11f1-a8bf-0242ac11002b-1778342400000-de
DTSTAMP:20260414T090020Z
DTSTART:20260509T160000Z
DTEND:20260509T170000Z
SUMMARY;LANGUAGE=de:Wortgottesfeier zum Thema "Maria-Wegbegleiterin im Glauben"
END:VEVENT
END:VCALENDAR
