BEGIN:VCALENDAR
VERSION:2.0
PRODID:http://kirche-buchbach.de
BEGIN:VEVENT
UID:37aa7809-3717-11f1-a8bf-0242ac11002b-1778515200000-de
DTSTAMP:20260413T090028Z
DTSTART:20260511T160000Z
DTEND:20260511T173000Z
SUMMARY;LANGUAGE=de:Bittprozession zum Rollenberg, anschließend Bittamt
END:VEVENT
END:VCALENDAR
