BEGIN:VCALENDAR
VERSION:2.0
PRODID:http://kirche-buchbach.de
BEGIN:VEVENT
UID:2ecd551a-3717-11f1-a8bf-0242ac11002b-1778486400000-de
DTSTAMP:20260413T090013Z
DTSTART:20260511T080000Z
DTEND:20260511T090000Z
SUMMARY;LANGUAGE=de:Dankandacht für die Erstkommunionkinder aller Pfarreien
END:VEVENT
END:VCALENDAR
