BEGIN:VCALENDAR
VERSION:2.0
PRODID:http://kirche-buchbach.de
BEGIN:VEVENT
UID:08aaccd3-3197-11f1-a8bf-0242ac11002b-1777883400000-de
DTSTAMP:20260406T090018Z
DTSTART:20260504T083000Z
DTEND:20260504T093000Z
SUMMARY;LANGUAGE=de:Dankgottesdienst der Erstkommunionkinder Zapfendorf u. Kirchschletten
DESCRIPTION;LANGUAGE=de:Dankgottesdienst der Erstkommunionkinder Zapfendorf u. Kirchschletten
END:VEVENT
END:VCALENDAR
